BEGIN:VCALENDAR
VERSION:2.0
PRODID:-//NJASRO - ECPv6.13.2.1//NONSGML v1.0//EN
CALSCALE:GREGORIAN
METHOD:PUBLISH
X-WR-CALNAME:NJASRO
X-ORIGINAL-URL:https://www.njasro.org
X-WR-CALDESC:Events for NJASRO
REFRESH-INTERVAL;VALUE=DURATION:PT1H
X-Robots-Tag:noindex
X-PUBLISHED-TTL:PT1H
BEGIN:VTIMEZONE
TZID:UTC
BEGIN:STANDARD
TZOFFSETFROM:+0000
TZOFFSETTO:+0000
TZNAME:UTC
DTSTART:20220101T000000
END:STANDARD
END:VTIMEZONE
BEGIN:VEVENT
DTSTART;VALUE=DATE:20220808
DTEND;VALUE=DATE:20220813
DTSTAMP:20260425T234458
CREATED:20220221T231502Z
LAST-MODIFIED:20220221T234941Z
UID:1197-1659916800-1660348799@www.njasro.org
SUMMARY:Safe Schools Resource Officer/School Liaison Training - Ocean County
DESCRIPTION:Course Dates: August 8-12\, 2022\nCourse Time: 8:30am to 4:30pm each day*\nLocation: Ocean County Police Academy\nAttire: Uniform/Business Casual\nTuition: $425** \n* Attendance is mandatory each day\, during all blocks of instruction\n** A purchase order is required to complete registration \nClick here to register
URL:https://www.njasro.org/event/safe-schools-resource-officer-school-liaison-training-ocean-county-5/
CATEGORIES:Training
END:VEVENT
BEGIN:VEVENT
DTSTART;VALUE=DATE:20220815
DTEND;VALUE=DATE:20220820
DTSTAMP:20260425T234458
CREATED:20211212T065133Z
LAST-MODIFIED:20211213T060255Z
UID:1082-1660521600-1660953599@www.njasro.org
SUMMARY:Safe Schools Resource Officer/School Liaison Training - Morris County
DESCRIPTION:Course Dates: August 15-19\, 2022\nCourse Time: 8:30am to 4:30pm each day*\nLocation: Morris County Public Safety Training Academy\nAttire: Uniform/Business Casual\nTuition: $425** \n* Attendance is mandatory each day\, during all blocks of instruction\n** A purchase order is required to complete registration \nClick here to register
URL:https://www.njasro.org/event/safe-schools-resource-officer-training-ocean-county/
CATEGORIES:Training
END:VEVENT
BEGIN:VEVENT
DTSTART;TZID=UTC:20220822T083000
DTEND;TZID=UTC:20220826T163000
DTSTAMP:20260425T234458
CREATED:20220721T063112Z
LAST-MODIFIED:20220721T063704Z
UID:32077-1661157000-1661531400@www.njasro.org
SUMMARY:Safe Schools Resource Officer/School Liaison Training – Monmouth County
DESCRIPTION:Course Dates: August 22-26\, 2022\nCourse Time: 8:30am to 4:30pm each day*\nLocation: Monmouth County Police Academy\nAttire: Uniform/Business Casual\nTuition: $425** \n* Attendance is mandatory each day during all blocks of instruction\n** A purchase order is required to complete registration \nClick Here To Register
URL:https://www.njasro.org/event/safe-schools-resource-officer-school-liaison-training-monmouth-county-2/
LOCATION:Monmouth County Police Academy\, 2000 Kozloski Road\, Freehold\, 07728\, United States
CATEGORIES:Training
END:VEVENT
END:VCALENDAR