BEGIN:VCALENDAR
VERSION:2.0
PRODID:-//NJASRO - ECPv6.13.2.1//NONSGML v1.0//EN
CALSCALE:GREGORIAN
METHOD:PUBLISH
X-WR-CALNAME:NJASRO
X-ORIGINAL-URL:https://www.njasro.org
X-WR-CALDESC:Events for NJASRO
REFRESH-INTERVAL;VALUE=DURATION:PT1H
X-Robots-Tag:noindex
X-PUBLISHED-TTL:PT1H
BEGIN:VTIMEZONE
TZID:UTC
BEGIN:STANDARD
TZOFFSETFROM:+0000
TZOFFSETTO:+0000
TZNAME:UTC
DTSTART:20170101T000000
END:STANDARD
END:VTIMEZONE
BEGIN:VEVENT
DTSTART;VALUE=DATE:20190812
DTEND;VALUE=DATE:20190817
DTSTAMP:20260423T194457
CREATED:20181105T212304Z
LAST-MODIFIED:20190514T201942Z
UID:997-1565568000-1565999999@www.njasro.org
SUMMARY:Safe Schools Resource Officer/School Liaison Training - Morris County (closed)
DESCRIPTION:Course Dates: August 12-16\, 2019\nLocation: Morris County Police Academy\nAttire: Uniform/business Casual\nTuition: $395 \n– A purchase order is required to complete registration\n– Attendance is mandatory each day\, during all blocks of instruction \nPlease call the office for wait list \n 
URL:https://www.njasro.org/event/safe-schools-resource-officer-school-liaison-training-morris-county/
LOCATION:NJ
CATEGORIES:Training
END:VEVENT
BEGIN:VEVENT
DTSTART;VALUE=DATE:20190729
DTEND;VALUE=DATE:20190803
DTSTAMP:20260423T194457
CREATED:20180807T212840Z
LAST-MODIFIED:20190206T185044Z
UID:849-1564358400-1564790399@www.njasro.org
SUMMARY:Safe Schools Resource Officer/School Liaison Training - Union County (closed)
DESCRIPTION:Course Dates: July 29-August 2\, 2019\nCourse Time: 8:30am to 4:30pm each day\nLocation: John H. Stamler Police Academy\nAttire: Uniform/business Casual\nTuition: $395 \n– A purchase order is required to complete registration\n – Attendance is mandatory each day\, during all blocks of instruction \nPlease contact the office for wait list \n  \n 
URL:https://www.njasro.org/event/safe-schools-resource-officerschool-liaison-training-union-county-2/
LOCATION:NJ
CATEGORIES:Training
END:VEVENT
BEGIN:VEVENT
DTSTART;VALUE=DATE:20190624
DTEND;VALUE=DATE:20190629
DTSTAMP:20260423T194457
CREATED:20180831T221519Z
LAST-MODIFIED:20190514T201837Z
UID:963-1561334400-1561766399@www.njasro.org
SUMMARY:Safe Schools Resource Officer/School Liaison Training - Bergen County (closed)
DESCRIPTION:Course Dates: June 24-28\, 2019\nCourse time: 08:30am to 4:30pm each day\nLocation: Bergen County Law and Public Safety Institute\nAttire: Uniform/business Casual\nTuition: $395. \nA purchase order is required to complete registration\nAttendance is mandatory each day\, during all blocks of instruction \nPlease call the office for wait list. \n  \n 
URL:https://www.njasro.org/event/safe-schools-resource-officerschool-liaison-training-bergen-county-2/
LOCATION:NJ
CATEGORIES:Training
END:VEVENT
BEGIN:VEVENT
DTSTART;VALUE=DATE:20190422
DTEND;VALUE=DATE:20190427
DTSTAMP:20260423T194457
CREATED:20181003T223718Z
LAST-MODIFIED:20190327T235904Z
UID:987-1555891200-1556323199@www.njasro.org
SUMMARY:Safe Schools Resource Officer/School Liaison Training - Mercer County (closed)
DESCRIPTION:Course Dates: April 22-26\, 2019\nLocation: Dempster Fire Training Center\nAttire: Uniform/business Casual\nTuition: $395 \n– A purchase order is required to complete registration\n– Attendance is mandatory each day\, during all blocks of instruction \nPlease contact the office for wait list. \n 
URL:https://www.njasro.org/event/safe-schools-resource-officerschool-liaison-training-mercer-county/
LOCATION:Dempster Fire Training Center\, 350 Lawrence Station Road\, Classroom A\, Lawrenceville\, NJ\, 08550\, United States
CATEGORIES:Training
END:VEVENT
BEGIN:VEVENT
DTSTART;VALUE=DATE:20190204
DTEND;VALUE=DATE:20190209
DTSTAMP:20260423T194457
CREATED:20180822T175346Z
LAST-MODIFIED:20181130T002724Z
UID:959-1549238400-1549670399@www.njasro.org
SUMMARY:Safe Schools Resource Officer Training - Monmouth County (closed)
DESCRIPTION:Course Dates: February 4-8\, 2019\nLocation: Monmouth County Police Academy\nAttire: Uniform/business Casual\nTuition: $395 \n– A purchase order is required to complete registration\n– Attendance is mandatory each day\, during all blocks of instruction \nPlease contact the office for wait list \n 
URL:https://www.njasro.org/event/safe-schools-resource-officer-training-monmouth-county/
LOCATION:Monmouth County Police Academy\, 2000 Kozloski Road\, Freehold\, 07728\, United States
CATEGORIES:Training
END:VEVENT
BEGIN:VEVENT
DTSTART;VALUE=DATE:20190107
DTEND;VALUE=DATE:20190112
DTSTAMP:20260423T194457
CREATED:20180720T212147Z
LAST-MODIFIED:20181105T211700Z
UID:843-1546819200-1547251199@www.njasro.org
SUMMARY:Safe Schools Resource Officer/School Liaison Training - Camden County (closed)
DESCRIPTION:Course Dates: January 7-11\, 2019\nLocation: The Police Academy at Camden County College\nAttire: Uniform/business Casual\nTuition: $350 \n– A purchase order is required to complete registration\n– Attendance is mandatory each day\, during all blocks of instruction \nPlease email us at info@njasro.org or call 973.486.9453 to be added to the wait list \n  \n 
URL:https://www.njasro.org/event/safe-schools-resource-officer-training-camden-county/
LOCATION:The Police Academy at Camden County College\, 420 N. Woodbury-Turnersville Road\, Blackwood\, NJ\, 08012\, United States
CATEGORIES:Training
END:VEVENT
BEGIN:VEVENT
DTSTART;VALUE=DATE:20181203
DTEND;VALUE=DATE:20181208
DTSTAMP:20260423T194457
CREATED:20180118T012737Z
LAST-MODIFIED:20180802T203211Z
UID:775-1543795200-1544227199@www.njasro.org
SUMMARY:Safe Schools Resource Officer/School Liaison Training - Morris County (Closed)
DESCRIPTION:Course Dates: December 3-7\, 2018\nLocation: Morris County Police Academy\nAttire: Uniform/business Casual\nTuition: $350 \nPlease call for wait list
URL:https://www.njasro.org/event/safe-schools-resource-officerschool-liaison-training-morris-county/
LOCATION:NJ
CATEGORIES:Training
END:VEVENT
BEGIN:VEVENT
DTSTART;VALUE=DATE:20181105
DTEND;VALUE=DATE:20181110
DTSTAMP:20260423T194458
CREATED:20171204T204930Z
LAST-MODIFIED:20180118T011144Z
UID:755-1541376000-1541807999@www.njasro.org
SUMMARY:Safe Schools Resource Officer/School Liaison Training - Atlantic County
DESCRIPTION:Course Dates: November 5-9\, 2018\nLocation: Atlantic County Police Academy\nAttire: Uniform/business Casual\nTuition: $350. \nPlease click here to register
URL:https://www.njasro.org/event/safe-schools-resource-officer-training-atlantic-county/
LOCATION:Tony ‘Canale’ Police Training Center\, 5033 English Creek Avenue\, Egg Harbor Township\, NJ\, 08234\, United States
CATEGORIES:Training
END:VEVENT
BEGIN:VEVENT
DTSTART;VALUE=DATE:20180917
DTEND;VALUE=DATE:20180922
DTSTAMP:20260423T194458
CREATED:20180306T021811Z
LAST-MODIFIED:20180802T202848Z
UID:781-1537142400-1537574399@www.njasro.org
SUMMARY:Safe Schools Resource Officer/School Liaison Training - Passaic County (Closed)
DESCRIPTION:Course Dates: September 17-21\, 2018\nLocation: Passaic County Police Academy\nAttire: Uniform/business Casual\nTuition: $350 \nPlease call for wait list
URL:https://www.njasro.org/event/safe-schools-resource-officerschool-liaison-training-essex-county/
LOCATION:Essex County College Public Safety Academy\, 250 Grove Avenue\, Cedar Grove\, NJ\, 07009\, United States
CATEGORIES:Training
END:VEVENT
BEGIN:VEVENT
DTSTART;VALUE=DATE:20180820
DTEND;VALUE=DATE:20180825
DTSTAMP:20260423T194458
CREATED:20180118T012357Z
LAST-MODIFIED:20180522T143421Z
UID:773-1534723200-1535155199@www.njasro.org
SUMMARY:Safe Schools Resource Officer/School Liaison Training - Ocean County (closed)
DESCRIPTION:Course Dates: August 20-24\, 2018\nLocation: Ocean County Police Academy\nAttire: Uniform/business Casual\nTuition: $350 \nPlease call to be added to wait list
URL:https://www.njasro.org/event/safe-schools-resource-officerschool-liaison-training-ocean-county/
LOCATION:NJ
CATEGORIES:Training
END:VEVENT
BEGIN:VEVENT
DTSTART;VALUE=DATE:20180730
DTEND;VALUE=DATE:20180804
DTSTAMP:20260423T194458
CREATED:20171204T200022Z
LAST-MODIFIED:20180522T143504Z
UID:751-1532908800-1533340799@www.njasro.org
SUMMARY:Safe Schools Resource Officer/School Liaison Training - Union County (closed)
DESCRIPTION:Course Dates: July 30 – August 3\, 2018\nLocation: John H. Stamler Police Academy\nAttire: Uniform/business Casual\nTuition: $350 \nPlease call for wait list information \n 
URL:https://www.njasro.org/event/safe-schools-resource-officerschool-liaison-training-union-county/
LOCATION:NJ
CATEGORIES:Training
END:VEVENT
BEGIN:VEVENT
DTSTART;TZID=UTC:20170621T083000
DTEND;TZID=UTC:20170621T163000
DTSTAMP:20260423T194458
CREATED:20170601T210656Z
LAST-MODIFIED:20170601T210656Z
UID:672-1498033800-1498062600@www.njasro.org
SUMMARY:21st Century Law Enforcement/Education Partnerships - Morris County
DESCRIPTION:This course will provide an overview of school based policing programs nationally and in New Jersey along with recommendations for how to effectively establish and maintain school/police partnerships. The course will discuss the evolution of school based policing\, School Resource Officer roles and responsibilities\, pitfalls encountered as a result of improper implementation\, and strategies for leadership and success in school policing. Topics include: \n•	Comparing the role of New Jersey Class III SLEOs\, SROs\, and School Security Personnel\n•	Evolution of school policing\n•	21st Century Policing recommendations for schools\n•	Safe School-based Enforcement through Collaboration\, Understanding\, and Respect (SECURe)\n•	Local Memorandum of Understanding\n•	School to Prison Pipeline/Restorative Justice\n•	Leadership in School Safety \nTarget Audience-Police Responders\, School Administrators\, School Security Directors\, School Security Personnel. \nTo register\, click here or call us at 973-486-9453.   \nThis course will fulfill 8-hours toward the completion of the 80-hour School Safety Specialist Certification.
URL:https://www.njasro.org/event/21st-century-law-enforcementeducation-partnerships-morris-county-2/
LOCATION:NJ
END:VEVENT
END:VCALENDAR