BEGIN:VCALENDAR
VERSION:2.0
PRODID:-//NJASRO - ECPv6.13.2.1//NONSGML v1.0//EN
CALSCALE:GREGORIAN
METHOD:PUBLISH
X-WR-CALNAME:NJASRO
X-ORIGINAL-URL:https://www.njasro.org
X-WR-CALDESC:Events for NJASRO
REFRESH-INTERVAL;VALUE=DURATION:PT1H
X-Robots-Tag:noindex
X-PUBLISHED-TTL:PT1H
BEGIN:VTIMEZONE
TZID:America/New_York
BEGIN:DAYLIGHT
TZOFFSETFROM:-0500
TZOFFSETTO:-0400
TZNAME:EDT
DTSTART:20230312T070000
END:DAYLIGHT
BEGIN:STANDARD
TZOFFSETFROM:-0400
TZOFFSETTO:-0500
TZNAME:EST
DTSTART:20231105T060000
END:STANDARD
END:VTIMEZONE
BEGIN:VTIMEZONE
TZID:UTC
BEGIN:STANDARD
TZOFFSETFROM:+0000
TZOFFSETTO:+0000
TZNAME:UTC
DTSTART:20180101T000000
END:STANDARD
END:VTIMEZONE
BEGIN:VEVENT
DTSTART;TZID=America/New_York:20230807T083000
DTEND;TZID=America/New_York:20230811T163000
DTSTAMP:20260423T193327
CREATED:20230302T131334Z
LAST-MODIFIED:20240110T023454Z
UID:32480-1691397000-1691771400@www.njasro.org
SUMMARY:Safe Schools Resource Officer/Liaison Training - Ocean County
DESCRIPTION:Course Dates: August 5-9\, 2024\nCourse Time: 8:30 am to 4:30 pm each day*\nLocation: Ocean County Police Academy\nAttire: Uniform/Business Casual\nTuition: $450** \n* Attendance is mandatory each day during all blocks of instruction\n** A purchase order is required to complete registration. \nClick Here For Registration
URL:https://www.njasro.org/event/safe-schools-resource-officer-liaison-training-ocean-county/
LOCATION:Ocean County Police Academy\, 659 Ocean Avenue\, Lakewood\, NJ\, 08701\, United States
CATEGORIES:Training
END:VEVENT
BEGIN:VEVENT
DTSTART;TZID=America/New_York:20230710T083000
DTEND;TZID=America/New_York:20230714T163000
DTSTAMP:20260423T193327
CREATED:20230302T131500Z
LAST-MODIFIED:20230302T131500Z
UID:32483-1688977800-1689352200@www.njasro.org
SUMMARY:Safe Schools Resource Officer/Liaison Training - Camden County
DESCRIPTION:Course Dates: July 10-14\, 2023\nCourse Time: 8:30 am to 4:30 pm each day*\nLocation: Camden County College Police Academy\nAttire: Uniform/Business Casual\nTuition: $450** \n* Attendance is mandatory each day during all blocks of instruction\n** A purchase order is required to complete registration. \nClick Here For Registration
URL:https://www.njasro.org/event/safe-schools-resource-officer-liaison-training-camden-county/
LOCATION:The Police Academy at Camden County College\, 420 N. Woodbury-Turnersville Road\, Blackwood\, NJ\, 08012\, United States
CATEGORIES:Training
END:VEVENT
BEGIN:VEVENT
DTSTART;TZID=UTC:20220822T083000
DTEND;TZID=UTC:20220826T163000
DTSTAMP:20260423T193327
CREATED:20220721T063112Z
LAST-MODIFIED:20220721T063704Z
UID:32077-1661157000-1661531400@www.njasro.org
SUMMARY:Safe Schools Resource Officer/School Liaison Training – Monmouth County
DESCRIPTION:Course Dates: August 22-26\, 2022\nCourse Time: 8:30am to 4:30pm each day*\nLocation: Monmouth County Police Academy\nAttire: Uniform/Business Casual\nTuition: $425** \n* Attendance is mandatory each day during all blocks of instruction\n** A purchase order is required to complete registration \nClick Here To Register
URL:https://www.njasro.org/event/safe-schools-resource-officer-school-liaison-training-monmouth-county-2/
LOCATION:Monmouth County Police Academy\, 2000 Kozloski Road\, Freehold\, 07728\, United States
CATEGORIES:Training
END:VEVENT
BEGIN:VEVENT
DTSTART;VALUE=DATE:20220815
DTEND;VALUE=DATE:20220820
DTSTAMP:20260423T193327
CREATED:20211212T065133Z
LAST-MODIFIED:20211213T060255Z
UID:1082-1660521600-1660953599@www.njasro.org
SUMMARY:Safe Schools Resource Officer/School Liaison Training - Morris County
DESCRIPTION:Course Dates: August 15-19\, 2022\nCourse Time: 8:30am to 4:30pm each day*\nLocation: Morris County Public Safety Training Academy\nAttire: Uniform/Business Casual\nTuition: $425** \n* Attendance is mandatory each day\, during all blocks of instruction\n** A purchase order is required to complete registration \nClick here to register
URL:https://www.njasro.org/event/safe-schools-resource-officer-training-ocean-county/
LOCATION:NJ
CATEGORIES:Training
END:VEVENT
BEGIN:VEVENT
DTSTART;VALUE=DATE:20220808
DTEND;VALUE=DATE:20220813
DTSTAMP:20260423T193327
CREATED:20220221T231502Z
LAST-MODIFIED:20220221T234941Z
UID:1197-1659916800-1660348799@www.njasro.org
SUMMARY:Safe Schools Resource Officer/School Liaison Training - Ocean County
DESCRIPTION:Course Dates: August 8-12\, 2022\nCourse Time: 8:30am to 4:30pm each day*\nLocation: Ocean County Police Academy\nAttire: Uniform/Business Casual\nTuition: $425** \n* Attendance is mandatory each day\, during all blocks of instruction\n** A purchase order is required to complete registration \nClick here to register
URL:https://www.njasro.org/event/safe-schools-resource-officer-school-liaison-training-ocean-county-5/
LOCATION:NJ
CATEGORIES:Training
END:VEVENT
BEGIN:VEVENT
DTSTART;TZID=UTC:20220726T000000
DTEND;TZID=UTC:20220726T000000
DTSTAMP:20260423T193327
CREATED:20210117T055128Z
LAST-MODIFIED:20220726T074617Z
UID:1111-1658793600-1658793600@www.njasro.org
SUMMARY:Safe Schools Resource Officer/School Liaison Training - Ocean County
DESCRIPTION:Course Dates: August 8-13\, 2021\nCourse Time: 8:30am to 4:30pm each day*\nLocation: Ocean County Police Academy\nAttire: Uniform/business Casual\nTuition: $425** \n* Attendance is mandatory each day\, during all blocks of instruction\n** A purchase order is required to complete registration \nClick here to register
URL:https://www.njasro.org/event/safe-schools-resource-officer-school-liaison-training-ocean-county-3/
LOCATION:NJ
CATEGORIES:Refresher Training,Training
END:VEVENT
BEGIN:VEVENT
DTSTART;VALUE=DATE:20220711
DTEND;VALUE=DATE:20220716
DTSTAMP:20260423T193327
CREATED:20220222T001109Z
LAST-MODIFIED:20220222T001109Z
UID:1203-1657497600-1657929599@www.njasro.org
SUMMARY:Safe Schools Resource Officer/School Liaison Training - Camden County
DESCRIPTION:Course Dates: July 11 – July 15\, 2022\nCourse Time: 8:30am to 4:30pm each day*\nLocation: Camden County College Police Academy\nAttire: Uniform/Business Casual\nTuition: $425** \n* Attendance is mandatory each day\, during all blocks of instruction\n** A purchase order is required to complete registration \nClick Here To Register
URL:https://www.njasro.org/event/safe-schools-resource-officer-school-liaison-training-camden-county-4/
LOCATION:The Police Academy at Camden County College\, 420 N. Woodbury-Turnersville Road\, Blackwood\, NJ\, 08012\, United States
CATEGORIES:Training
END:VEVENT
BEGIN:VEVENT
DTSTART;VALUE=DATE:20220627
DTEND;VALUE=DATE:20220702
DTSTAMP:20260423T193327
CREATED:20211212T061813Z
LAST-MODIFIED:20211213T060349Z
UID:1160-1656288000-1656719999@www.njasro.org
SUMMARY:Safe Schools Resource Officer/School Liaison Training - Union County
DESCRIPTION:Course Dates: June 27 – July 1\, 2022\nCourse Time: 8:30am to 4:30pm each day*\nLocation: John H. Stamler Police Academy\nAttire: Uniform/Business Casual\nTuition: $425** \n* Attendance is mandatory each day\, during all blocks of instruction\n** A purchase order is required to complete registration \nClick Here To Register
URL:https://www.njasro.org/event/safe-schools-resource-officer-school-liaison-training-union-county-2/
LOCATION:NJ
CATEGORIES:Training
END:VEVENT
BEGIN:VEVENT
DTSTART;VALUE=DATE:20220418
DTEND;VALUE=DATE:20220423
DTSTAMP:20260423T193327
CREATED:20191107T211054Z
LAST-MODIFIED:20211212T051422Z
UID:1051-1650240000-1650671999@www.njasro.org
SUMMARY:Safe Schools Resource Officer/School Liaison Training - Monmouth County
DESCRIPTION:Course Dates: April 18-22\, 2022\nCourse Time: 8:30am to 4:30pm each day*\nLocation: Monmouth County Police Academy\nAttire: Uniform/Business Casual\nTuition: $425** \n* Attendance is mandatory each day\, during all blocks of instruction\n** A purchase order is required to complete registration \nClick Here To Register
URL:https://www.njasro.org/event/safe-schools-resource-officer-school-liaison-training-monmouth-county/
LOCATION:Monmouth County Police Academy\, 2000 Kozloski Road\, Freehold\, 07728\, United States
CATEGORIES:Training
END:VEVENT
BEGIN:VEVENT
DTSTART;TZID=UTC:20211206T083000
DTEND;TZID=UTC:20211210T163000
DTSTAMP:20260423T193327
CREATED:20210830T005336Z
LAST-MODIFIED:20210830T005336Z
UID:1127-1638779400-1639153800@www.njasro.org
SUMMARY:Safe Schools Resource Officer/School Liaison Training - Morris County
DESCRIPTION:Course Dates December 6-10\, 2021\nCourse Time: 8:30am to 4:30pm each day*\nLocation: Morris County Police Academy\nAttire: Uniform/Business Casual\nTuition:  $ 425** \n* Attendance is mandatory each day\, during all blocks of instruction\n** A purchase order is required to complete registration \nClick Here To Register
URL:https://www.njasro.org/event/safe-schools-resource-officer-school-liaison-training-morris-county-6/
LOCATION:NJ
CATEGORIES:Training
END:VEVENT
BEGIN:VEVENT
DTSTART;TZID=UTC:20210816T083000
DTEND;TZID=UTC:20210820T163000
DTSTAMP:20260423T193327
CREATED:20210117T075500Z
LAST-MODIFIED:20210117T075500Z
UID:1119-1629102600-1629477000@www.njasro.org
SUMMARY:Safe Schools Resource Officer/School Liaison Training - Morris County
DESCRIPTION:Course Dates August 16-20\,2021\nCourse Time: 8:30am to 4:30pm each day*\nLocation: Morris County Police Academy\nAttire: Uniform/business Casual\nTuition:  $ 425** \n* Attendance is mandatory each day\, during all blocks of instruction\n** A purchase order is required to complete registration \nClick here to register \n  \n 
URL:https://www.njasro.org/event/safe-schools-resource-officer-school-liaison-training-morris-county-5/
LOCATION:NJ
CATEGORIES:Training
END:VEVENT
BEGIN:VEVENT
DTSTART;TZID=UTC:20210809T083000
DTEND;TZID=UTC:20210813T163000
DTSTAMP:20260423T193327
CREATED:20210117T055843Z
LAST-MODIFIED:20210117T055843Z
UID:1113-1628497800-1628872200@www.njasro.org
SUMMARY:Safe Schools Resource Officer/School Liaison Training - Ocean County
DESCRIPTION:Course Dates: August 9-13\, 2021\nCourse Time: 8:30am to 4:30pm each day*\nLocation: Ocean County Police Academy\nAttire: Uniform/business Casual\nTuition: $425** \n* Attendance is mandatory each day\, during all blocks of instruction\n** A purchase order is required to complete registration \nClick here to register
URL:https://www.njasro.org/event/safe-schools-resource-officer-school-liaison-training-ocean-county-4/
LOCATION:NJ
CATEGORIES:Training
END:VEVENT
BEGIN:VEVENT
DTSTART;TZID=UTC:20210719T083000
DTEND;TZID=UTC:20210723T163000
DTSTAMP:20260423T193327
CREATED:20210117T042545Z
LAST-MODIFIED:20210117T042545Z
UID:1107-1626683400-1627057800@www.njasro.org
SUMMARY:Safe Schools Resource Officer/School Liaison Training - Camden County
DESCRIPTION:Course Dates: July 19-23\, 2021\nCourse Time: 8:30am to 4:30pm each day*\nLocation: Camden County College Police Academy\nAttire: Uniform/business Casual\nTuition: $425** \n* Attendance is mandatory each day\, during all blocks of instruction\n** A purchase order is required to complete registration \nClick here to register
URL:https://www.njasro.org/event/safe-schools-resource-officer-school-liaison-training-camden-county-3/
LOCATION:The Police Academy at Camden County College\, 420 N. Woodbury-Turnersville Road\, Blackwood\, NJ\, 08012\, United States
CATEGORIES:Training
END:VEVENT
BEGIN:VEVENT
DTSTART;TZID=UTC:20210315T083000
DTEND;TZID=UTC:20210319T163000
DTSTAMP:20260423T193327
CREATED:20210114T054147Z
LAST-MODIFIED:20210114T054555Z
UID:1095-1615797000-1616171400@www.njasro.org
SUMMARY:Safe Schools Resource Officer/School Liaison Training - Ocean County
DESCRIPTION:Course Dates: March 15-19\, 2021\nCourse Time: 8:30am to 4:30pm each day*\nLocation: Ocean County Police Academy\nAttire: Uniform/business Casual\nTuition: $425** \n* Attendance is mandatory each day\, during all blocks of instruction\n** A purchase order is required to complete registration \nClick Here To Register
URL:https://www.njasro.org/event/safe-schools-resource-officer-school-liaison-training-ocean-county-2/
LOCATION:NJ
CATEGORIES:Training
END:VEVENT
BEGIN:VEVENT
DTSTART;VALUE=DATE:20201207
DTEND;VALUE=DATE:20201212
DTSTAMP:20260423T193327
CREATED:20191107T213232Z
LAST-MODIFIED:20191216T220443Z
UID:1065-1607299200-1607731199@www.njasro.org
SUMMARY:Safe Schools Resource Officer/School Liaison Training - Morris County
DESCRIPTION:Course Dates: December 7-11\, 2020\nCourse Time: 8:30am to 4:30pm each day*\nLocation: Morris County Police Academy\nAttire: Uniform/business Casual\nTuition: $395** \n* Attendance is mandatory each day\, during all blocks of instruction\n** A purchase order is required to complete registration \nClick here to register
URL:https://www.njasro.org/event/safe-schools-resource-officer-school-liaison-training-morris-county-4/
LOCATION:NJ
CATEGORIES:Training
END:VEVENT
BEGIN:VEVENT
DTSTART;VALUE=DATE:20200817
DTEND;VALUE=DATE:20200822
DTSTAMP:20260423T193327
CREATED:20191107T212901Z
LAST-MODIFIED:20191107T213556Z
UID:1063-1597622400-1598054399@www.njasro.org
SUMMARY:Safe Schools Resource Officer/School Liaison Training - Ocean County
DESCRIPTION:Course Dates: August 17-21\, 2020\nCourse Time: 8:30am to 4:30pm each day*\nLocation: Ocean County Police Academy\nAttire: Uniform/business Casual\nTuition: $395** \n* Attendance is mandatory each day\, during all blocks of instruction\n** A purchase order is required to complete registration \nClick here to register
URL:https://www.njasro.org/event/safe-schools-resource-officer-school-liaison-training-ocean-county/
LOCATION:NJ
CATEGORIES:Training
END:VEVENT
BEGIN:VEVENT
DTSTART;VALUE=DATE:20200810
DTEND;VALUE=DATE:20200815
DTSTAMP:20260423T193327
CREATED:20191107T212608Z
LAST-MODIFIED:20191107T212608Z
UID:1060-1597017600-1597449599@www.njasro.org
SUMMARY:Safe Schools Resource Officer/School Liaison Training - Morris County
DESCRIPTION:Course Dates: August 10-14\, 2020\nCourse Time: 8:30am to 4:30pm each day*\nLocation: Morris County Police Academy\nAttire: Uniform/business Casual\nTuition: $395** \n* Attendance is mandatory each day\, during all blocks of instruction\n** A purchase order is required to complete registration \nClick here to register
URL:https://www.njasro.org/event/safe-schools-resource-officer-school-liaison-training-morris-county-3/
LOCATION:NJ
CATEGORIES:Training
END:VEVENT
BEGIN:VEVENT
DTSTART;VALUE=DATE:20200727
DTEND;VALUE=DATE:20200801
DTSTAMP:20260423T193327
CREATED:20191107T211508Z
LAST-MODIFIED:20191107T211508Z
UID:1056-1595808000-1596239999@www.njasro.org
SUMMARY:Safe Schools Resource Officer/School Liaison Training - Union County
DESCRIPTION:Course Dates: July 27-31\, 2020\nCourse Time: 8:30am to 4:30pm each day*\nLocation: John H Stamler Police Academy\nAttire: Uniform/business Casual\nTuition: $395** \n* Attendance is mandatory each day\, during all blocks of instruction\n** A purchase order is required to complete registration \nClick here to register
URL:https://www.njasro.org/event/safe-schools-resource-officer-school-liaison-training-union-county/
LOCATION:NJ
CATEGORIES:Training
END:VEVENT
BEGIN:VEVENT
DTSTART;VALUE=DATE:20200706
DTEND;VALUE=DATE:20200711
DTSTAMP:20260423T193327
CREATED:20191107T212253Z
LAST-MODIFIED:20191107T212253Z
UID:1058-1593993600-1594425599@www.njasro.org
SUMMARY:Safe Schools Resource Officer/School Liaison Training - Camden County
DESCRIPTION:Course Dates: July 6-10\, 2020\nCourse Time: 8:30am to 4:30pm each day*\nLocation: Camden County College Police Academy\nAttire: Uniform/business Casual\nTuition: $395** \n* Attendance is mandatory each day\, during all blocks of instruction\n** A purchase order is required to complete registration \nClick here to register
URL:https://www.njasro.org/event/safe-schools-resource-officer-school-liaison-training-camden-county-2/
LOCATION:The Police Academy at Camden County College\, 420 N. Woodbury-Turnersville Road\, Blackwood\, NJ\, 08012\, United States
CATEGORIES:Training
END:VEVENT
BEGIN:VEVENT
DTSTART;VALUE=DATE:20200210
DTEND;VALUE=DATE:20200215
DTSTAMP:20260423T193327
CREATED:20191114T184911Z
LAST-MODIFIED:20200207T183703Z
UID:1068-1581292800-1581724799@www.njasro.org
SUMMARY:Safe Schools Resource Officer/School Liaison Training - Bergen County - Closed
DESCRIPTION:Course Dates: February 10-14\, 2020\nCourse Time: 8:30am to 4:30pm each day*\nLocation: Bergen County Law & Public Safety Institute\nAttire: Uniform/business Casual\nTuition: $395** \n* Attendance is mandatory each day\, during all blocks of instruction\n** A purchase order is required to complete registration \nThis class has reached capacity
URL:https://www.njasro.org/event/safe-schools-resource-officer-school-liaison-training-bergen-county/
LOCATION:NJ
CATEGORIES:Training
END:VEVENT
BEGIN:VEVENT
DTSTART;VALUE=DATE:20191202
DTEND;VALUE=DATE:20191207
DTSTAMP:20260423T193327
CREATED:20181105T212655Z
LAST-MODIFIED:20190923T183519Z
UID:999-1575244800-1575676799@www.njasro.org
SUMMARY:Safe Schools Resource Officer/School Liaison Training - Morris County (closed)
DESCRIPTION:Course Dates: December 2-6\, 2019\nLocation: Morris County Police Academy\nAttire: Uniform/business Casual\nTuition: $395 \n– A purchase order is required to complete registration\n– Attendance is mandatory each day\, during all blocks of instruction \nTo be added to the wait list\, please call us at 973.486.9453 or email us at info@njasro.org 
URL:https://www.njasro.org/event/safe-schools-resource-officer-school-liaison-training-morris-county-2/
LOCATION:NJ
CATEGORIES:Training
END:VEVENT
BEGIN:VEVENT
DTSTART;VALUE=DATE:20190930
DTEND;VALUE=DATE:20191005
DTSTAMP:20260423T193327
CREATED:20190816T161908Z
LAST-MODIFIED:20190816T162037Z
UID:1038-1569801600-1570233599@www.njasro.org
SUMMARY:Safe Schools Resource Officer/School Liaison Training - Camden County
DESCRIPTION:Course Dates: September 30-October 4\, 2019\nLocation: Camden County College Police Academy\nAttire: Uniform/business Casual\nTuition: $395 \n– A purchase order is required to complete registration\n– Attendance is mandatory each day\, during all blocks of instruction. \nClick here to register 
URL:https://www.njasro.org/event/safe-schools-resource-officer-school-liaison-training-camden-county/
LOCATION:The Police Academy at Camden County College\, 420 N. Woodbury-Turnersville Road\, Blackwood\, NJ\, 08012\, United States
CATEGORIES:Training
END:VEVENT
BEGIN:VEVENT
DTSTART;VALUE=DATE:20190819
DTEND;VALUE=DATE:20190824
DTSTAMP:20260423T193327
CREATED:20180921T205333Z
LAST-MODIFIED:20190308T215110Z
UID:971-1566172800-1566604799@www.njasro.org
SUMMARY:Safe Schools Resource Officer/School Liaison Training - Ocean County (closed)
DESCRIPTION:Course Dates: August 19-23\, 2019\nLocation: Ocean County Police Academy\nAttire: Uniform/business Casual\nTuition: $395 \n– A purchase order is required to complete registration\n– Attendance is mandatory each day\, during all blocks of instruction. \nPlease contact the office for wait list
URL:https://www.njasro.org/event/safe-schools-resource-officerschool-liaison-training-ocean-county-2/
LOCATION:NJ
CATEGORIES:Training
END:VEVENT
BEGIN:VEVENT
DTSTART;VALUE=DATE:20190812
DTEND;VALUE=DATE:20190817
DTSTAMP:20260423T193327
CREATED:20181105T212304Z
LAST-MODIFIED:20190514T201942Z
UID:997-1565568000-1565999999@www.njasro.org
SUMMARY:Safe Schools Resource Officer/School Liaison Training - Morris County (closed)
DESCRIPTION:Course Dates: August 12-16\, 2019\nLocation: Morris County Police Academy\nAttire: Uniform/business Casual\nTuition: $395 \n– A purchase order is required to complete registration\n– Attendance is mandatory each day\, during all blocks of instruction \nPlease call the office for wait list \n 
URL:https://www.njasro.org/event/safe-schools-resource-officer-school-liaison-training-morris-county/
LOCATION:NJ
CATEGORIES:Training
END:VEVENT
BEGIN:VEVENT
DTSTART;VALUE=DATE:20190729
DTEND;VALUE=DATE:20190803
DTSTAMP:20260423T193327
CREATED:20180807T212840Z
LAST-MODIFIED:20190206T185044Z
UID:849-1564358400-1564790399@www.njasro.org
SUMMARY:Safe Schools Resource Officer/School Liaison Training - Union County (closed)
DESCRIPTION:Course Dates: July 29-August 2\, 2019\nCourse Time: 8:30am to 4:30pm each day\nLocation: John H. Stamler Police Academy\nAttire: Uniform/business Casual\nTuition: $395 \n– A purchase order is required to complete registration\n – Attendance is mandatory each day\, during all blocks of instruction \nPlease contact the office for wait list \n  \n 
URL:https://www.njasro.org/event/safe-schools-resource-officerschool-liaison-training-union-county-2/
LOCATION:NJ
CATEGORIES:Training
END:VEVENT
BEGIN:VEVENT
DTSTART;VALUE=DATE:20190624
DTEND;VALUE=DATE:20190629
DTSTAMP:20260423T193327
CREATED:20180831T221519Z
LAST-MODIFIED:20190514T201837Z
UID:963-1561334400-1561766399@www.njasro.org
SUMMARY:Safe Schools Resource Officer/School Liaison Training - Bergen County (closed)
DESCRIPTION:Course Dates: June 24-28\, 2019\nCourse time: 08:30am to 4:30pm each day\nLocation: Bergen County Law and Public Safety Institute\nAttire: Uniform/business Casual\nTuition: $395. \nA purchase order is required to complete registration\nAttendance is mandatory each day\, during all blocks of instruction \nPlease call the office for wait list. \n  \n 
URL:https://www.njasro.org/event/safe-schools-resource-officerschool-liaison-training-bergen-county-2/
LOCATION:NJ
CATEGORIES:Training
END:VEVENT
BEGIN:VEVENT
DTSTART;VALUE=DATE:20190422
DTEND;VALUE=DATE:20190427
DTSTAMP:20260423T193327
CREATED:20181003T223718Z
LAST-MODIFIED:20190327T235904Z
UID:987-1555891200-1556323199@www.njasro.org
SUMMARY:Safe Schools Resource Officer/School Liaison Training - Mercer County (closed)
DESCRIPTION:Course Dates: April 22-26\, 2019\nLocation: Dempster Fire Training Center\nAttire: Uniform/business Casual\nTuition: $395 \n– A purchase order is required to complete registration\n– Attendance is mandatory each day\, during all blocks of instruction \nPlease contact the office for wait list. \n 
URL:https://www.njasro.org/event/safe-schools-resource-officerschool-liaison-training-mercer-county/
LOCATION:Dempster Fire Training Center\, 350 Lawrence Station Road\, Classroom A\, Lawrenceville\, NJ\, 08550\, United States
CATEGORIES:Training
END:VEVENT
BEGIN:VEVENT
DTSTART;VALUE=DATE:20190204
DTEND;VALUE=DATE:20190209
DTSTAMP:20260423T193327
CREATED:20180822T175346Z
LAST-MODIFIED:20181130T002724Z
UID:959-1549238400-1549670399@www.njasro.org
SUMMARY:Safe Schools Resource Officer Training - Monmouth County (closed)
DESCRIPTION:Course Dates: February 4-8\, 2019\nLocation: Monmouth County Police Academy\nAttire: Uniform/business Casual\nTuition: $395 \n– A purchase order is required to complete registration\n– Attendance is mandatory each day\, during all blocks of instruction \nPlease contact the office for wait list \n 
URL:https://www.njasro.org/event/safe-schools-resource-officer-training-monmouth-county/
LOCATION:Monmouth County Police Academy\, 2000 Kozloski Road\, Freehold\, 07728\, United States
CATEGORIES:Training
END:VEVENT
BEGIN:VEVENT
DTSTART;VALUE=DATE:20190107
DTEND;VALUE=DATE:20190112
DTSTAMP:20260423T193327
CREATED:20180720T212147Z
LAST-MODIFIED:20181105T211700Z
UID:843-1546819200-1547251199@www.njasro.org
SUMMARY:Safe Schools Resource Officer/School Liaison Training - Camden County (closed)
DESCRIPTION:Course Dates: January 7-11\, 2019\nLocation: The Police Academy at Camden County College\nAttire: Uniform/business Casual\nTuition: $350 \n– A purchase order is required to complete registration\n– Attendance is mandatory each day\, during all blocks of instruction \nPlease email us at info@njasro.org or call 973.486.9453 to be added to the wait list \n  \n 
URL:https://www.njasro.org/event/safe-schools-resource-officer-training-camden-county/
LOCATION:The Police Academy at Camden County College\, 420 N. Woodbury-Turnersville Road\, Blackwood\, NJ\, 08012\, United States
CATEGORIES:Training
END:VEVENT
BEGIN:VEVENT
DTSTART;VALUE=DATE:20181203
DTEND;VALUE=DATE:20181208
DTSTAMP:20260423T193327
CREATED:20180118T012737Z
LAST-MODIFIED:20180802T203211Z
UID:775-1543795200-1544227199@www.njasro.org
SUMMARY:Safe Schools Resource Officer/School Liaison Training - Morris County (Closed)
DESCRIPTION:Course Dates: December 3-7\, 2018\nLocation: Morris County Police Academy\nAttire: Uniform/business Casual\nTuition: $350 \nPlease call for wait list
URL:https://www.njasro.org/event/safe-schools-resource-officerschool-liaison-training-morris-county/
LOCATION:NJ
CATEGORIES:Training
END:VEVENT
END:VCALENDAR