BEGIN:VCALENDAR
VERSION:2.0
PRODID:-//NJASRO - ECPv6.13.2.1//NONSGML v1.0//EN
CALSCALE:GREGORIAN
METHOD:PUBLISH
X-ORIGINAL-URL:https://www.njasro.org
X-WR-CALDESC:Events for NJASRO
REFRESH-INTERVAL;VALUE=DURATION:PT1H
X-Robots-Tag:noindex
X-PUBLISHED-TTL:PT1H
BEGIN:VTIMEZONE
TZID:America/New_York
BEGIN:DAYLIGHT
TZOFFSETFROM:-0500
TZOFFSETTO:-0400
TZNAME:EDT
DTSTART:20240310T070000
END:DAYLIGHT
BEGIN:STANDARD
TZOFFSETFROM:-0400
TZOFFSETTO:-0500
TZNAME:EST
DTSTART:20241103T060000
END:STANDARD
BEGIN:DAYLIGHT
TZOFFSETFROM:-0500
TZOFFSETTO:-0400
TZNAME:EDT
DTSTART:20250309T070000
END:DAYLIGHT
BEGIN:STANDARD
TZOFFSETFROM:-0400
TZOFFSETTO:-0500
TZNAME:EST
DTSTART:20251102T060000
END:STANDARD
BEGIN:DAYLIGHT
TZOFFSETFROM:-0500
TZOFFSETTO:-0400
TZNAME:EDT
DTSTART:20260308T070000
END:DAYLIGHT
BEGIN:STANDARD
TZOFFSETFROM:-0400
TZOFFSETTO:-0500
TZNAME:EST
DTSTART:20261101T060000
END:STANDARD
END:VTIMEZONE
BEGIN:VEVENT
DTSTART;TZID=America/New_York:20241209T083000
DTEND;TZID=America/New_York:20241213T163000
DTSTAMP:20260425T113659
CREATED:20240715T003146Z
LAST-MODIFIED:20240715T003146Z
UID:32666-1733733000-1734107400@www.njasro.org
SUMMARY:Safe Schools Resource Officer/Liaison Training - Morris County
DESCRIPTION:Course Dates: December 9-13\, 2024\nCourse Time: 8:30 am to 4:30 pm each day*\nLocation: Morris County Public Safety Training Academy \nAttire: Uniform/Business Professional\nTuition: $450** \n* Attendance is mandatory each day during all blocks of instruction\n** A purchase order is required to complete registration. \nClick Here For Registration
URL:https://www.njasro.org/event/safe-schools-resource-officer-liaison-training-morris-county-2/
LOCATION:Morris County Public Safety Training Academy\, 500 W Hanover Avenue\, Morristown\, New Jersey\, 07960
CATEGORIES:Training
END:VEVENT
BEGIN:VEVENT
DTSTART;TZID=America/New_York:20250129T083000
DTEND;TZID=America/New_York:20250129T163000
DTSTAMP:20260425T113659
CREATED:20241125T011423Z
LAST-MODIFIED:20250518T213326Z
UID:32677-1738139400-1738168200@www.njasro.org
SUMMARY:School Safety & Security for Police Supervisors
DESCRIPTION:This one-day course is designed explicitly for frontline police supervisors who respond to school incidents\, supervise juvenile detectives\, SROs\, Class III SLEOs\, or are designated as the police liaison to the school district. \nCourse Dates: To Be Set\nLocation: To Be Set \nTuition: $150** \nPlease call 973-486-9453 to be placed on the waiting list. \n  \n 
URL:https://www.njasro.org/event/school-safety-security-for-police-supervisors-hudson-county/
CATEGORIES:School Safety and Security for Police Supervisors
END:VEVENT
BEGIN:VEVENT
DTSTART;VALUE=DATE:20250317
DTEND;VALUE=DATE:20250322
DTSTAMP:20260425T113659
CREATED:20230827T015658Z
LAST-MODIFIED:20241222T233629Z
UID:32592-1742169600-1742601599@www.njasro.org
SUMMARY:Safe Schools Resource Officer/School Liaison Training – Union County
DESCRIPTION:Course Dates: March 17 to March 21\, 2025\nCourse Time: 8:30 am to 4:30 pm each day*\nLocation: John H. Stamler Police Academy\nAttire: Uniform/Business Casual\nTuition: $475** \n* Attendance is mandatory each day during all blocks of instruction\n** A purchase order is required to complete the registration \nClick Here To Register
URL:https://www.njasro.org/event/safe-schools-resource-officer-school-liaison-training-union-county-2025/
LOCATION:John H Stamler Police Academy\, 1776 Raritan Road\, Scotch Plains\, NJ\, 07076\, United States
CATEGORIES:Training
END:VEVENT
BEGIN:VEVENT
DTSTART;VALUE=DATE:20250411
DTEND;VALUE=DATE:20250418
DTSTAMP:20260425T113659
CREATED:20240714T234521Z
LAST-MODIFIED:20241223T003952Z
UID:32663-1744329600-1744934399@www.njasro.org
SUMMARY:Safe Schools Resource Officer/Liaison Training - Atlantic County
DESCRIPTION:PLEASE NOTE: This is a 5-Day Course. The first day will commence on Friday\, April 11\, 2025\, then continue on Mon-Thurs\, April 14-17\, 2025 (Attendance is mandatory for all 5-days). \nCourse Dates: April 11\, 14-17\, 2025\nCourse Time: 8:30 am to 4:30 pm each day*\nLocation: Atlantic County Police Training Center \nAttire: Uniform/Business Professional\nTuition: $475** \n* Attendance is mandatory each day during all blocks of instruction\n** A purchase order is required to complete registration. \nClick Here For Registration
URL:https://www.njasro.org/event/safe-schools-resource-officer-liaison-training-atlantic-county/
LOCATION:Atlantic County Police Training Center\, 5033 English Creek Avenue\, Egg Harbor Township\, NJ\, 08234\, United States
CATEGORIES:Training
END:VEVENT
BEGIN:VEVENT
DTSTART;TZID=America/New_York:20250630T083000
DTEND;TZID=America/New_York:20250630T123000
DTSTAMP:20260425T113659
CREATED:20230717T021405Z
LAST-MODIFIED:20250519T010738Z
UID:32585-1751272200-1751286600@www.njasro.org
SUMMARY:2025 Middlesex County Social Media Seminar June 30\, 2025
DESCRIPTION:Course Dates: June 30\, 2025\nCourse Time: 8:30 am to 12:30 pm\nLocation: Morris County Public Safety Training Academy\nAttire: Uniform/Business Casual\nTuition: FREE \nClick Here To Register
URL:https://www.njasro.org/event/safe-schools-resource-officer-school-liaison-training-morris-county-8/
LOCATION:Professional Conference Center at ESCNJ\, 1690 Stelton Road\, Piscataway\, NJ\, 08854\, United States
CATEGORIES:Social Media Seminar by TikTok, NJSP, NJDOE OSPEP
END:VEVENT
BEGIN:VEVENT
DTSTART;TZID=America/New_York:20250630T083000
DTEND;TZID=America/New_York:20250630T123000
DTSTAMP:20260425T113700
CREATED:20250604T010304Z
LAST-MODIFIED:20250604T010505Z
UID:32734-1751272200-1751286600@www.njasro.org
SUMMARY:Social Media Presentation
DESCRIPTION:TIKTOK US Law Enforcement Outreach will present an overview of programs\, all legal requests\, content removal\, and how they keep their platform safe. \nThe New Jersey State Police Internet Crimes Against Children (ICAC) Unit will present information concerning their investigations and Internet Safety \nThe New Jersey Association of School Resource Officers (NJASRO) will discuss School Resource Officers’ roles in schools when handling social media matters. \nThe New Jersey Department of Education (NJDOE) Director of the Office of School Preparedness & Emergency Planning (OSPEP)\, Mr. Jeffery Gale\, will discuss the resources available to schools through their office when handling threats involving social media.  \nPlease REGISTER HERE
URL:https://www.njasro.org/event/social-media-presentation/
LOCATION:Professional Conference Center at ESCNJ\, 1690 Stelton Road\, Piscataway\, NJ\, 08854\, United States
END:VEVENT
BEGIN:VEVENT
DTSTART;TZID=America/New_York:20251201T083000
DTEND;TZID=America/New_York:20251205T163000
DTSTAMP:20260425T113700
CREATED:20240107T230910Z
LAST-MODIFIED:20250901T223320Z
UID:32636-1764577800-1764952200@www.njasro.org
SUMMARY:Safe Schools Resource Officer/Liaison Training - Gloucester County-Rowan College of South Jersey
DESCRIPTION:Course Dates: December 1-5\, 2025\nCourse Time: 8:30 am to 4:30 pm each day* \nLocation: Gloucester County Police Academy \n Rowan College of South Jersey \nAttire: Uniform/Business Professional\nTuition: $475.00** \n* Attendance is mandatory each day during all blocks of instruction\n** A purchase order is required to complete registration. \nClick Here For Registration
URL:https://www.njasro.org/event/safe-schools-resource-officer-liaison-training-gloucester-county-rowan-college-of-south-jersey/
LOCATION:Gloucester County Police Academy – Rowan College of South Jersey\, 1400 Tanyard Road\, Sewell\, NJ\, 08080\, United States
CATEGORIES:Training
END:VEVENT
BEGIN:VEVENT
DTSTART;TZID=America/New_York:20260622T083000
DTEND;TZID=America/New_York:20260626T163000
DTSTAMP:20260425T113700
CREATED:20260301T191503Z
LAST-MODIFIED:20260301T193237Z
UID:32611-1782117000-1782491400@www.njasro.org
SUMMARY:Safe Schools Resource Officer/Liaison Training - Bergen County - June 2026
DESCRIPTION:Course Dates: June 22-26\, 2026\nCourse Time: 8:30 am to 4:30 pm each day*\nLocation: Bergen County Law and Public Safety Institute\nAttire: Uniform/Business Casual\nTuition: $500.00** \n* Attendance is mandatory each day during all blocks of instruction\n** A purchase order is required to complete registration. \nClick Here For Registration
URL:https://www.njasro.org/event/safe-schools-resource-officer-liaison-training-bergen-county-2026/
LOCATION:Bergen County Law and Public Safety Institute\, 281 Campgaw Road\, Mahwah\, NJ\, 07430\, United States
CATEGORIES:Training
END:VEVENT
BEGIN:VEVENT
DTSTART;TZID=America/New_York:20260629T083000
DTEND;TZID=America/New_York:20260703T163000
DTSTAMP:20260425T113700
CREATED:20240102T015536Z
LAST-MODIFIED:20260407T210208Z
UID:32621-1782721800-1783096200@www.njasro.org
SUMMARY:Safe Schools Resource Officer/Liaison Training - Camden County - June 2026
DESCRIPTION:Course Dates: June 29 to July 3\, 2026\nCourse Time: 8:30 am to 4:30 pm each day*\nLocation: The Police Academy at Camden County College \nAttire: Uniform/Business Professional\nTuition: $500** \n* Attendance is mandatory each day during all blocks of instruction\n** A purchase order is required to complete registration. \nClick Here For Registration
URL:https://www.njasro.org/event/safe-schools-resource-officer-liaison-training-camden-county-2/
LOCATION:The Police Academy at Camden County College\, 420 N. Woodbury-Turnersville Road\, Blackwood\, NJ\, 08012\, United States
CATEGORIES:Training
END:VEVENT
BEGIN:VEVENT
DTSTART;TZID=America/New_York:20260720T083000
DTEND;TZID=America/New_York:20260724T163000
DTSTAMP:20260425T113700
CREATED:20260321T170050Z
LAST-MODIFIED:20260321T175733Z
UID:32624-1784536200-1784910600@www.njasro.org
SUMMARY:Safe Schools Resource Officer/Liaison Training - Monmouth County - July 2026
DESCRIPTION:Course Dates: July 20-24\, 2026\nCourse Time: 8:30 am to 4:30 pm each day*\nLocation: Monmouth County Police Academy \nAttire: Uniform/Business Professional\nTuition: $500** \n* Attendance is mandatory each day during all blocks of instruction\n** A purchase order is required to complete registration. \nClick Here For Registration
URL:https://www.njasro.org/event/safe-schools-resource-officer-liaison-training-monmouth-county-2/
LOCATION:Monmouth County Police Academy\, 2000 Kozloski Road\, Freehold\, 07728\, United States
CATEGORIES:Training
END:VEVENT
BEGIN:VEVENT
DTSTART;TZID=America/New_York:20260727T083000
DTEND;TZID=America/New_York:20260731T163000
DTSTAMP:20260425T113700
CREATED:20240102T023238Z
LAST-MODIFIED:20260407T205454Z
UID:32628-1785141000-1785515400@www.njasro.org
SUMMARY:Safe Schools Resource Officer/Liaison Training - Ocean County - July 2026
DESCRIPTION:Course Dates: July 27 to July 31\, 2026\nCourse Time: 8:30 am to 4:30 pm each day*\nLocation: Ocean County Police Academy \nAttire: Uniform/Business Professional\nTuition: $500** \n* Attendance is mandatory each day during all blocks of instruction\n** A purchase order is required to complete registration. \nClick Here For Registration
URL:https://www.njasro.org/event/safe-schools-resource-officer-liaison-training-ocean-county-2/
LOCATION:Ocean County Police Academy\, 659 Ocean Avenue\, Lakewood\, NJ\, 08701\, United States
CATEGORIES:Training
END:VEVENT
BEGIN:VEVENT
DTSTART;TZID=America/New_York:20260810T083000
DTEND;TZID=America/New_York:20260814T163000
DTSTAMP:20260425T113700
CREATED:20260301T193017Z
LAST-MODIFIED:20260301T193300Z
UID:32477-1786350600-1786725000@www.njasro.org
SUMMARY:Safe Schools Resource Officer/School Liaison Training - Morris County - Aug 2026
DESCRIPTION:Course Dates: August 10-14\, 2026\nCourse Time: 8:30 am to 4:30 pm each day*\nLocation: Morris County Public Safety Training Academy\nAttire: Uniform/Business Casual\nTuition: $500.00** \n* Attendance is mandatory each day during all blocks of instruction\n** A purchase order is required to complete the registration. \nClick Here To Register
URL:https://www.njasro.org/event/safe-schools-resource-officer-school-liaison-training-morris-county-2026/
LOCATION:Morris County Public Safety Training Academy\, 500 W Hanover Avenue\, Morristown\, New Jersey\, 07960
CATEGORIES:Training
END:VEVENT
BEGIN:VEVENT
DTSTART;TZID=America/New_York:20261207T083000
DTEND;TZID=America/New_York:20261211T163000
DTSTAMP:20260425T113700
CREATED:20240102T024204Z
LAST-MODIFIED:20260301T194634Z
UID:32630-1796632200-1797006600@www.njasro.org
SUMMARY:Safe Schools Resource Officer/Liaison Training - Morris County - Dec 2026
DESCRIPTION:Course Dates: December 7-11\, 2026\nCourse Time: 8:30 am to 4:30 pm each day*\nLocation: Morris County Public Safety Training Academy \nAttire: Uniform/Business Professional\nTuition: $500.00** \n* Attendance is mandatory each day during all blocks of instruction\n** A purchase order is required to complete registration. \nClick Here For Registration
URL:https://www.njasro.org/event/safe-schools-resource-officer-liaison-training-morris-county/
LOCATION:Morris County Public Safety Training Academy\, 500 W Hanover Avenue\, Morristown\, New Jersey\, 07960
CATEGORIES:Training
END:VEVENT
END:VCALENDAR